BEGIN:VCALENDAR
VERSION:2.0
PRODID:-//Drew Michael Taylor Foundation - ECPv6.15.14//NONSGML v1.0//EN
CALSCALE:GREGORIAN
METHOD:PUBLISH
X-WR-CALNAME:Drew Michael Taylor Foundation
X-ORIGINAL-URL:https://drewmichaeltaylor.org
X-WR-CALDESC:Events for Drew Michael Taylor Foundation
REFRESH-INTERVAL;VALUE=DURATION:PT1H
X-Robots-Tag:noindex
X-PUBLISHED-TTL:PT1H
BEGIN:VTIMEZONE
TZID:America/New_York
BEGIN:DAYLIGHT
TZOFFSETFROM:-0500
TZOFFSETTO:-0400
TZNAME:EDT
DTSTART:20250309T070000
END:DAYLIGHT
BEGIN:STANDARD
TZOFFSETFROM:-0400
TZOFFSETTO:-0500
TZNAME:EST
DTSTART:20251102T060000
END:STANDARD
BEGIN:DAYLIGHT
TZOFFSETFROM:-0500
TZOFFSETTO:-0400
TZNAME:EDT
DTSTART:20260308T070000
END:DAYLIGHT
BEGIN:STANDARD
TZOFFSETFROM:-0400
TZOFFSETTO:-0500
TZNAME:EST
DTSTART:20261101T060000
END:STANDARD
BEGIN:DAYLIGHT
TZOFFSETFROM:-0500
TZOFFSETTO:-0400
TZNAME:EDT
DTSTART:20270314T070000
END:DAYLIGHT
BEGIN:STANDARD
TZOFFSETFROM:-0400
TZOFFSETTO:-0500
TZNAME:EST
DTSTART:20271107T060000
END:STANDARD
END:VTIMEZONE
BEGIN:VEVENT
DTSTART;TZID=America/New_York:20260502T100000
DTEND;TZID=America/New_York:20260502T120000
DTSTAMP:20260419T121219
CREATED:20260409T152943Z
LAST-MODIFIED:20260409T152943Z
UID:10000941-1777716000-1777723200@drewmichaeltaylor.org
SUMMARY:Building Birdfeeders Children's Grief Workshop
DESCRIPTION:The Building Birdfeeders children’s grief workshop will take place at the Drew’s Hope Grief Center\, 946 Ashton Dr.\, Shippensburg on Sat. May 2\, 2026 from 2-4 p.m.  Participants will be engaged in a variety of hummingbird-themed activities designed to help them process their grief related to the death of a loved one. The activities are designed primarily for children in the 5-11 age range. Children must be accompanied by an adult. Space at this workshop is limited. Please contact the DMTF at 717-532-8922 (leave a detailed message if we’re not there) or bethanydmtf@gmail.com to reserve your spot.  Building Birdfeeders
URL:https://drewmichaeltaylor.org/event/building-birdfeeders/
LOCATION:Drew’s Hope Grief Center\, 946 Ashton Dr.\, Shippensburg\, PA\, United States
ATTACH;FMTTYPE=image/jpeg:https://drewmichaeltaylor.org/wp-content/uploads/2026/04/Rudis-Pond-book-pic.jpg
END:VEVENT
END:VCALENDAR