BEGIN:VCALENDAR
VERSION:2.0
PRODID:-//Drew Michael Taylor Foundation - ECPv6.15.14//NONSGML v1.0//EN
CALSCALE:GREGORIAN
METHOD:PUBLISH
X-WR-CALNAME:Drew Michael Taylor Foundation
X-ORIGINAL-URL:https://drewmichaeltaylor.org
X-WR-CALDESC:Events for Drew Michael Taylor Foundation
REFRESH-INTERVAL;VALUE=DURATION:PT1H
X-Robots-Tag:noindex
X-PUBLISHED-TTL:PT1H
BEGIN:VTIMEZONE
TZID:America/New_York
BEGIN:DAYLIGHT
TZOFFSETFROM:-0500
TZOFFSETTO:-0400
TZNAME:EDT
DTSTART:20250309T070000
END:DAYLIGHT
BEGIN:STANDARD
TZOFFSETFROM:-0400
TZOFFSETTO:-0500
TZNAME:EST
DTSTART:20251102T060000
END:STANDARD
BEGIN:DAYLIGHT
TZOFFSETFROM:-0500
TZOFFSETTO:-0400
TZNAME:EDT
DTSTART:20260308T070000
END:DAYLIGHT
BEGIN:STANDARD
TZOFFSETFROM:-0400
TZOFFSETTO:-0500
TZNAME:EST
DTSTART:20261101T060000
END:STANDARD
BEGIN:DAYLIGHT
TZOFFSETFROM:-0500
TZOFFSETTO:-0400
TZNAME:EDT
DTSTART:20270314T070000
END:DAYLIGHT
BEGIN:STANDARD
TZOFFSETFROM:-0400
TZOFFSETTO:-0500
TZNAME:EST
DTSTART:20271107T060000
END:STANDARD
END:VTIMEZONE
BEGIN:VEVENT
DTSTART;TZID=America/New_York:20260319T183000
DTEND;TZID=America/New_York:20260319T200000
DTSTAMP:20260423T081653
CREATED:20241017T154636Z
LAST-MODIFIED:20260318T002305Z
UID:10000758-1773945000-1773950400@drewmichaeltaylor.org
SUMMARY:Families Healing Together Grief Support Group
DESCRIPTION:The Families Healing Together Support Group meets the 3rd Thursday of each month from 6:30 -8:00 p.m. at the Drew’s Hope Grief Center\, 946 Ashton Dr.\, Shippensburg\, PA.  This night for grievers of all ages replaces our previous adult group called Healing Together.  The Families Healing Together group will be a time of socialization\, learning and play.  Come and meet fellow grievers on the journey as we figure out how to heal….together! \nRSVPs are requested when attending this group so we can have enough snacks and supplies for any special projects (email us at drewmichaeltaylor@pa.net).
URL:https://drewmichaeltaylor.org/event/healing-together-grief-support-group/2026-03-19/
LOCATION:Drew’s Hope Grief Center\, 946 Ashton Dr.\, Shippensburg\, PA\, United States
ATTACH;FMTTYPE=image/webp:https://drewmichaeltaylor.org/wp-content/uploads/2024/10/event-image_drews-hope-broken-heart.webp
ORGANIZER;CN="Drew Michael Taylor Foundation":MAILTO:drewmichaeltaylor@pa.net
END:VEVENT
END:VCALENDAR