BEGIN:VCALENDAR
VERSION:2.0
PRODID:-//Drew Michael Taylor Foundation - ECPv6.15.14//NONSGML v1.0//EN
CALSCALE:GREGORIAN
METHOD:PUBLISH
X-ORIGINAL-URL:https://drewmichaeltaylor.org
X-WR-CALDESC:Events for Drew Michael Taylor Foundation
REFRESH-INTERVAL;VALUE=DURATION:PT1H
X-Robots-Tag:noindex
X-PUBLISHED-TTL:PT1H
BEGIN:VTIMEZONE
TZID:America/New_York
BEGIN:DAYLIGHT
TZOFFSETFROM:-0500
TZOFFSETTO:-0400
TZNAME:EDT
DTSTART:20250309T070000
END:DAYLIGHT
BEGIN:STANDARD
TZOFFSETFROM:-0400
TZOFFSETTO:-0500
TZNAME:EST
DTSTART:20251102T060000
END:STANDARD
BEGIN:DAYLIGHT
TZOFFSETFROM:-0500
TZOFFSETTO:-0400
TZNAME:EDT
DTSTART:20260308T070000
END:DAYLIGHT
BEGIN:STANDARD
TZOFFSETFROM:-0400
TZOFFSETTO:-0500
TZNAME:EST
DTSTART:20261101T060000
END:STANDARD
BEGIN:DAYLIGHT
TZOFFSETFROM:-0500
TZOFFSETTO:-0400
TZNAME:EDT
DTSTART:20270314T070000
END:DAYLIGHT
BEGIN:STANDARD
TZOFFSETFROM:-0400
TZOFFSETTO:-0500
TZNAME:EST
DTSTART:20271107T060000
END:STANDARD
END:VTIMEZONE
BEGIN:VEVENT
DTSTART;TZID=America/New_York:20260318T100000
DTEND;TZID=America/New_York:20260318T120000
DTSTAMP:20260419T135928
CREATED:20241017T161543Z
LAST-MODIFIED:20241017T161543Z
UID:10000236-1773828000-1773835200@drewmichaeltaylor.org
SUMMARY:The Perfect Blend: Coffee\, Crafting\, & Conversation
DESCRIPTION:The Perfect Blend: Coffee\, Crafting & Conversation is a unique grief support group for adults who are grieving the death of a loved one (recent loss or years ago). The group meets every Wed. morning from 10 a.m. – noon at our Drew’s Hope Grief Center\, 946 Ashton Dr.\, Shippensburg\, PA.  Participants bring their own craft projects (or use our supplies) and while they craft\, they talk about grief or everything but grief. It’s a unique way to connect with fellow grievers in a positive\, healing way. We are seeking to create relationships that extend beyond the group in order to support and sustain us at difficult times in our grief journey. \nFor more information\, contact the DMTF at 717-532-8922 or drewmichaeltaylor@pa.net. \n*RSVPs are requested when attending this group so we know how many chairs to set up and so we can notify participants if the group is cancelled for any reason.
URL:https://drewmichaeltaylor.org/event/the-perfect-blend-coffee-crafting-conversation/2026-03-18/
LOCATION:Drew’s Hope Grief Center\, 946 Ashton Dr.\, Shippensburg\, PA\, United States
ATTACH;FMTTYPE=image/webp:https://drewmichaeltaylor.org/wp-content/uploads/2024/10/event-image_mothers-day-cards.webp
ORGANIZER;CN="Drew Michael Taylor Foundation":MAILTO:drewmichaeltaylor@pa.net
END:VEVENT
BEGIN:VEVENT
DTSTART;TZID=America/New_York:20260318T190000
DTEND;TZID=America/New_York:20260318T203000
DTSTAMP:20260419T135928
CREATED:20260222T020459Z
LAST-MODIFIED:20260222T020459Z
UID:10000739-1773860400-1773865800@drewmichaeltaylor.org
SUMMARY:Pet Loss Support Group
DESCRIPTION:The newest support group for adult grievers is our 4 session Pet Loss Support Group.  If you’re grieving the death of a pet and want to connect with fellow grievers for validation\, encouragement and support\, please RSVP to the Drew Michael Taylor Foundation by calling 717-532-8922 or emailing drewmichaeltaylor@pa.net.  We’ll share pictures\, memories\, discuss positive coping skills and begin to heal together.  Meetings will take place at the Drew’s Hope Grief Center\, 946 Ashton Dr.\, Shippensburg every Wed. evening in March from 7-8:30 p.m.
URL:https://drewmichaeltaylor.org/event/pet-loss-support-group/2026-03-18/
LOCATION:Drew’s Hope Grief Center\, 946 Ashton Dr.\, Shippensburg\, PA\, United States
ATTACH;FMTTYPE=image/jpeg:https://drewmichaeltaylor.org/wp-content/uploads/2026/02/Pet-Loss-Support-Group-202-1.jpg
ORGANIZER;CN="Drew Michael Taylor Foundation":MAILTO:drewmichaeltaylor@pa.net
END:VEVENT
END:VCALENDAR