BEGIN:VCALENDAR
VERSION:2.0
PRODID:-//Drew Michael Taylor Foundation - ECPv6.15.14//NONSGML v1.0//EN
CALSCALE:GREGORIAN
METHOD:PUBLISH
X-WR-CALNAME:Drew Michael Taylor Foundation
X-ORIGINAL-URL:https://drewmichaeltaylor.org
X-WR-CALDESC:Events for Drew Michael Taylor Foundation
REFRESH-INTERVAL;VALUE=DURATION:PT1H
X-Robots-Tag:noindex
X-PUBLISHED-TTL:PT1H
BEGIN:VTIMEZONE
TZID:America/New_York
BEGIN:DAYLIGHT
TZOFFSETFROM:-0500
TZOFFSETTO:-0400
TZNAME:EDT
DTSTART:20250309T070000
END:DAYLIGHT
BEGIN:STANDARD
TZOFFSETFROM:-0400
TZOFFSETTO:-0500
TZNAME:EST
DTSTART:20251102T060000
END:STANDARD
BEGIN:DAYLIGHT
TZOFFSETFROM:-0500
TZOFFSETTO:-0400
TZNAME:EDT
DTSTART:20260308T070000
END:DAYLIGHT
BEGIN:STANDARD
TZOFFSETFROM:-0400
TZOFFSETTO:-0500
TZNAME:EST
DTSTART:20261101T060000
END:STANDARD
BEGIN:DAYLIGHT
TZOFFSETFROM:-0500
TZOFFSETTO:-0400
TZNAME:EDT
DTSTART:20270314T070000
END:DAYLIGHT
BEGIN:STANDARD
TZOFFSETFROM:-0400
TZOFFSETTO:-0500
TZNAME:EST
DTSTART:20271107T060000
END:STANDARD
END:VTIMEZONE
BEGIN:VEVENT
DTSTART;TZID=America/New_York:20260212T190000
DTEND;TZID=America/New_York:20260212T203000
DTSTAMP:20260419T154805
CREATED:20260122T141919Z
LAST-MODIFIED:20260122T142121Z
UID:10000049-1770922800-1770928200@drewmichaeltaylor.org
SUMMARY:GriefKnits Support Group
DESCRIPTION:The GriefKnits Support Group meets the 2nd Thursday of each month from 7:00-8:30 p.m. at the Drew’s Hope Grief Center\, 946 Ashton Dr.\, Shippensburg\, PA.  Knitting has shown positive mental health benefits for grievers. Come and meet others who are grieving the death of a loved one and learn to knit or bring another craft project to work on.  If you’re a griever who already knows how to knit/crochet\, bring your current project and gather with us for conversation and fellowship. If you don’t have arts/crafts materials\, we have lots of supplies you can use.  We provide the knitting supplies for our new knitters too.  Materials will be provided unless you want to purchase/pick your own yarn color.  If that’s the case\, let us know and we’ll let you know the materials you need.
URL:https://drewmichaeltaylor.org/event/griefknits-support-group-2-2/2026-02-12/
LOCATION:Drew’s Hope Grief Center\, 946 Ashton Dr.\, Shippensburg\, PA\, United States
ATTACH;FMTTYPE=image/jpeg:https://drewmichaeltaylor.org/wp-content/uploads/2024/01/dmtf_knitting.jpg
ORGANIZER;CN="Drew Michael Taylor Foundation":MAILTO:drewmichaeltaylor@pa.net
END:VEVENT
END:VCALENDAR